BEGIN:VCALENDAR
VERSION:2.0
PRODID:-//Coaching bei Bad Hersfeld in der Natur - ECPv6.15.20//NONSGML v1.0//EN
CALSCALE:GREGORIAN
METHOD:PUBLISH
X-WR-CALNAME:Coaching bei Bad Hersfeld in der Natur
X-ORIGINAL-URL:https://begegne-dir.de
X-WR-CALDESC:Veranstaltungen für Coaching bei Bad Hersfeld in der Natur
REFRESH-INTERVAL;VALUE=DURATION:PT1H
X-Robots-Tag:noindex
X-PUBLISHED-TTL:PT1H
BEGIN:VTIMEZONE
TZID:Europe/Berlin
BEGIN:DAYLIGHT
TZOFFSETFROM:+0100
TZOFFSETTO:+0200
TZNAME:CEST
DTSTART:20250330T010000
END:DAYLIGHT
BEGIN:STANDARD
TZOFFSETFROM:+0200
TZOFFSETTO:+0100
TZNAME:CET
DTSTART:20251026T010000
END:STANDARD
BEGIN:DAYLIGHT
TZOFFSETFROM:+0100
TZOFFSETTO:+0200
TZNAME:CEST
DTSTART:20260329T010000
END:DAYLIGHT
BEGIN:STANDARD
TZOFFSETFROM:+0200
TZOFFSETTO:+0100
TZNAME:CET
DTSTART:20261025T010000
END:STANDARD
BEGIN:DAYLIGHT
TZOFFSETFROM:+0100
TZOFFSETTO:+0200
TZNAME:CEST
DTSTART:20270328T010000
END:DAYLIGHT
BEGIN:STANDARD
TZOFFSETFROM:+0200
TZOFFSETTO:+0100
TZNAME:CET
DTSTART:20271031T010000
END:STANDARD
END:VTIMEZONE
BEGIN:VEVENT
DTSTART;TZID=Europe/Berlin:20260422T190000
DTEND;TZID=Europe/Berlin:20260423T100000
DTSTAMP:20260422T121803
CREATED:20260327T161721Z
LAST-MODIFIED:20260327T191841Z
UID:10869-1776884400-1776938400@begegne-dir.de
SUMMARY:Sternschnuppenbeobachtung
DESCRIPTION:Abend oder Nacht in der Natur\nDie Lyriden haben ihren Höhepunkt am \n22. April 2026 \nDaher biete ich eine begleitete Nacht in der Natur an\, ähnlich des Wald-Auszeit Angebotes: Lies gerne den entsprechenden Blog-Artikel \nAlternativ kannst du diesen Abend als Naturerlebnis ohne Übernachtung buchen. Kontaktiere mich gerne für Details. \n  \n€ 150\,- im 1:1 Setting inklusive Coaching \n€ 60\,- im 1:1 Setting für den Abend ohne Übernachtung \nSollte die Veranstaltung mit einer Gruppe stattfinden\, reduziert sich der Preis. Es ist dann ohne Einzelcoaching. \nAnmeldung \n  \nMein Angebot dient der Verbesserung der Lebensqualität. Es ist für Personen gedacht\, die ihr Potenzial entfalten oder einen neuen Umgang mit bestimmten Lebensbereichen erlernen wollen. Falls Sie unter akuten gesundheitlichen oder psychischen Erkrankungen leiden\, empfehle ich einen Arzt\, Heilpraktiker oder Psychotherapeuten Ihrer Wahl aufzusuchen. \nFür mich als Gesundheitspraktikerin gilt das Prinzip der Eigenverantwortung und freien Entscheidung. Sie bestimmen\, wie weit Sie bei Erfahrungen und Übungen gehen wollen.
URL:https://begegne-dir.de/termin/sternschnuppenbeobachtung/
CATEGORIES:Entspannung,Erlebnisabend,in der Natur,Individuell
ATTACH;FMTTYPE=image/png:https://begegne-dir.de/wp-content/uploads/NachtimWald_Sternschnuppen.png
ORGANIZER;CN="begegne dir - Jutta Stinzing":MAILTO:info@begegne-dir.de
END:VEVENT
END:VCALENDAR